BEGIN:VCALENDAR
VERSION:2.0
PRODID:-//DogPro - ECPv6.15.20//NONSGML v1.0//EN
CALSCALE:GREGORIAN
METHOD:PUBLISH
X-WR-CALNAME:DogPro
X-ORIGINAL-URL:https://dogpro.ro
X-WR-CALDESC:Evenimente pentru DogPro
REFRESH-INTERVAL;VALUE=DURATION:PT1H
X-Robots-Tag:noindex
X-PUBLISHED-TTL:PT1H
BEGIN:VTIMEZONE
TZID:Europe/Bucharest
BEGIN:DAYLIGHT
TZOFFSETFROM:+0200
TZOFFSETTO:+0300
TZNAME:EEST
DTSTART:20250330T010000
END:DAYLIGHT
BEGIN:STANDARD
TZOFFSETFROM:+0300
TZOFFSETTO:+0200
TZNAME:EET
DTSTART:20251026T010000
END:STANDARD
BEGIN:DAYLIGHT
TZOFFSETFROM:+0200
TZOFFSETTO:+0300
TZNAME:EEST
DTSTART:20260329T010000
END:DAYLIGHT
BEGIN:STANDARD
TZOFFSETFROM:+0300
TZOFFSETTO:+0200
TZNAME:EET
DTSTART:20261025T010000
END:STANDARD
BEGIN:DAYLIGHT
TZOFFSETFROM:+0200
TZOFFSETTO:+0300
TZNAME:EEST
DTSTART:20270328T010000
END:DAYLIGHT
BEGIN:STANDARD
TZOFFSETFROM:+0300
TZOFFSETTO:+0200
TZNAME:EET
DTSTART:20271031T010000
END:STANDARD
END:VTIMEZONE
BEGIN:VEVENT
DTSTART;TZID=Europe/Bucharest:20260530T080000
DTEND;TZID=Europe/Bucharest:20260531T190000
DTSTAMP:20260423T163511
CREATED:20251208T120647Z
LAST-MODIFIED:20260205T113440Z
UID:268211-1780128000-1780254000@dogpro.ro
SUMMARY:Master Groom Romania 30-31.05.2026
DESCRIPTION:This competition is governed by the rules of E.G.A. If you have any questions\, please do not hesitate to contact us. https://www.europeangroomingassociation.eu/rules.asp\n\nMASTER GROOM ROMANIA 2026\nLet The Journey Begin!\nMaster Groom Romania – International Dog Grooming Competition \n30–31 May 2026 | Timișoara | Sala Polivalentă \nIn 2026 Master Groom Romania grows bigger\, stronger and brighter than ever.For the first time\, the competition expands over two full days in one of Romania’s most vibrant cities: Timișoara. \nA new location.A larger competition ring.More categories.More learning.More community.More grooming at the highest level. \nAnd yes\, the same heart\, passion and energy that define this event. \n\n\nMEET THE JUDGES\nMasters of the ring\nThis year’s panel brings together exceptional professionals known for their precision\, vision and integrity:\n• Paola Acco• Simona Chelli• Ilse Frenk-Kleton• Costin Stoica• Attila Kovacs \nFive perspectives\, five styles\, five ways of seeing the dog\, united in one mission: elevate the next generation of groomers. \nCOMPETITION SCHEDULE 2026\nSATURDAY\, 30 MAY 2026\nAM CLASSESPre-Judge 8:30 | Start 9:00• Stripping Open & Champion• Commercial Free Style Mix Breeds• Beginners \nPM CLASSESPre-Judge 13:00 | Start 13:30• Pure Breed Open & Champion• Double Coat• Beginners Free Workshop \n\nSUNDAY\, 31 MAY 2026\nAM CLASSESPre-Judge 8:30 | Start 9:00• Spaniels & Setters Open & Champion• Asian\n• Intermediate \nPM CLASSESPre-Judge 13:00 | Start 13:30• Poodle Standard Open & Champion• Poodles Toy\, Miniature & Medium Open & Champion\n• Breed Standard Showcase \nModel Dogs Creative – ALREADY DONE\nCompetitors will bring a fully finished Model Dog that has been groomed at home.On Saturday\, the first day of the competition\, all entries will be placed on a dedicated display table. \nThe models will remain on display throughout the day\, giving the public the chance to admire them and allowing the judges to examine each piece in detail. Evaluation is based solely on the finished work\, with no in-ring grooming demonstration. \nThis class highlights creativity\, technical skill and precision.The winner will receive recognition and awards\, but is not eligible for the Best in Show title. \nWHAT TO EXPECT IN 2026\n*A competition built to challenge you.*A community ready to welcome you.*Two days dedicated entirely to learning\, passion\, precision and joy. \nWhether you are competing\, learning or simply absorbing the atmosphere\, Master Groom Romania 2026 will be an experience you will carry with you long after the ring is closed. \nGrooming regulations: \n\nThe dogs will need to be washed (except for the handstripping dogs).\nThe ears and nails need to be groomed and the dog’s underbelly\, genitals and hind quarters may be previously groomed for reasons of hygiene\, according to the breed standard.\nAny evident line or pattern should not be visible. Dog’s coat must have at least two months’ growth; the hair must be long enough to allow the groomer to make a difference in its appearance.\nContestants competing with dogs showing evident line or groomed less than two months earlier should be aware that they will not have any chance to compete for victory.\nAll grooming techniques are allowed\, as long as the chosen technique suites the type of the dog’s coat.\n\nCategory Handstripping / Spaniels & Setters \n\nStripping knives are allowed.\nDog needs to be groomed according to the breed standard.\n(Colored) Chalk powder/block/spray and cream is allowed.\nIt is not allowed to use clippers except: (Scottish Terrier – chest\, head and ears / West Highland Terrier – chest and ears / Cockers and Setters – chest and ears / Schnauzer – chest\, head\, inside of back legs and ears)\n\nCategory Poodles / Pure Breeds \n\nThe dog needs to be washed and fluff dried.\nClipper guide combs are not allowed.\nPoodle muzzle and feet should be shaven prior to the start of the competition.\nPoodles must be groomed in a style recognized in the breed standard.\nPoodles with top knots  may ask for help from an outsider to hold the dog.\nColoring is not allowed.\n\nContestants \n\nOn the entry form contestants must add the breed of the dog to be groomed and\, for Poodle class\, also what cut will be done. Signature in acceptance of all rules is required.\nContestants must be in the ring 30 minutes prior to the start of the competition with their own dog and tools.\nContestants are not allowed to talk to other contestants and/or the audience during the contest.\nContestants are not allowed to use mobile phone and/or any electronic device during the competition.\nChalk use is allowed\, however Judges must be able to comb the entire dog’s body during prejudging as well as at the end of the competition and no trace of it should appear on judges’ hands after the judgment\, as a disqualification can occur.\nOn Poodle hair spray can be used only on topknot\, as the comb must slide smoothly during the judgment .\nToo much hairspray and the use of texturing shampoo / conditioners can penalize Purebred Scissoring that cannot be smoothly combed..\nCoat thinning comb should  be used on Spaniel & Setter without exaggerating.\nOn Handstripping dogs\, legs\, underbelly and hears should not be done previous the competition.\nAny indecorous or aggressive language used towards the judges as well as a dog handled in rough or unsafe manner may lead to disqualification.\nPossible disqualification will be executed by the President of the Jury\nWhen competition ends\, contestants should remove all hair\, equipment and products from the grooming table as well as  moving all stuffs on the floor under the table\, to  allow the judges an easy approach to the tables for the judgment\nA comb should be placed on the table for the judge to use during judging.\nContestants may comb their dogs before and after the judging panel has evaluated their dogs.\nContestant should stack his/her dog to present to judge. Dogs not in judgment must not be kept stuckss.\nAny possible complaint must be in written\, presented before the end of the event and will cost 25€.\n\nThe evaluation of the Judgment\nThe judges will examine taking into account the following criteria for the assessment of the work of each participant:\n\nPresentation of the dog.\nFix regarding the standard of the race.\nBalance\, symmetry and elegance of the silhouette on its 4 sides.\nFinal finish (finishing).\nAbility to hide defects and improve their virtues.\nDegree of difficulty of the work to be carried out.\nWork organization.\nQuality of the scissor\, stripping and machine technique.\n\n****BEGINNER:\nThis class is for groomers with no more than 2 years of experience. Participation in dog shows also counts as experience. A contestant may enter the Beginner class in multiple competitions for up to 12 months\, even if they win. After those 12 months\, they must move to the Intermediate class\, regardless of results. All breeds and grooming techniques are allowed in the Beginner class. However\, organizers may choose to divide this class into the four main grooming categories. Once a contestant wins in a Beginner category and moves up to Intermediate\, they cannot return to the Beginner class\, not even in another category. \n****INTERMEDIATE:\nThis class is for all groomers with more than 2 years of experience. A contestant may compete in the Intermediate class for up to 12 months\, even if they win. After those 12 months\, they must move to the Open class\, regardless of results. All breeds and techniques are allowed in the Intermediate class\, although organizers may choose to divide it into the four main grooming categories. Once a contestant wins in an Intermediate category and moves up to Open\, they cannot return to Intermediate\, not even in another category. Any groomer who has already competed in the Open class is no longer eligible to enter Intermediate. \n****OPEN:\nThis class is for groomers who have moved up from Intermediate or who have not yet competed in the Champion class. To advance from Open to Champion\, a contestant must earn three first-place wins in Open classes that each have at least five competitors. Each win comes with an official certificate. All three certificates must be presented when registering for the Champion class. \n****CHAMPION:\nThis class is for groomers who have already won a category in the Champion class\, or for those who have won three first-place awards in the Open class of the same category\, each earned in a class with at least five competitors. To register for Champion\, contestants must present all three winning certificates. \n****BREED STANDARD SHOWCASE\nThis class is open to all purebred dogs. Any grooming technique may be used\, as long as it is appropriate for the dog’s coat and follows the breed’s structure and standard. Judging will take into account the quality of the work\, balance\, finish\, and the overall presentation of the dog. \nParticipation fees:\n– One category = 80 Euro/pers\n– Two categories = 150 Euro/pers\n– Three categories = 210 Euro/pers\n– Four categorie = 260 Euro/pers \nAsk for more info at info@dogpro.ro or +40746400300 \nMaster Groom Romania – International Dog Grooming Competition
URL:https://dogpro.ro/eveniment/master-groom-romania-30-31-05-2026/
LOCATION:Centrul Regional de Afaceri Timisoara\, Bulevardul Eroilor de la Tisa nr.22\, Timisoara\, Timis\, 300575\, Romania
ATTACH;FMTTYPE=image/png:https://dogpro.ro/wp-content/uploads/2025/12/mastergroom-2026-Facebook-Cover-.png
END:VEVENT
BEGIN:VEVENT
DTSTART;TZID=Europe/Bucharest:20260530T093000
DTEND;TZID=Europe/Bucharest:20260531T170000
DTSTAMP:20260423T163511
CREATED:20260129T133736Z
LAST-MODIFIED:20260130T132343Z
UID:270744-1780133400-1780246800@dogpro.ro
SUMMARY:Grooming In Real Life
DESCRIPTION:MASTER YOUR DAILY ROUTINE\n4 Tehnici. 4 Experți. 1 singur scop. \nSuccesul unui groomer nu vine din tehnici complicate\, ci din felul în care stăpânești munca de zi cu zi în salon. Pentru Master Groom România 2026\, am creat un program de 4 seminarii\, care îți vor oferii soluții practice pe care le poți folosi chiar din ziua următoare \nIată echipa de traineri și programul celor două zile de învățare intensă la Timișoara: \nSâmbătă: 30 Mai 2026 \n\n10:00 – 12:00\nEficiența în salon cu Vali Stefanovici\nTunsoare comercială pe Shih Tzu. Viteză\, structură corectă și rezultat care mulțumește clientul.\n\n14:00 – 16:00\nArhitectura formelor cu Mădălina Dânbu\nPoodle Terrier Clip. Geometrie\, echilibru și controlul foarfecii\, principii aplicabile la orice rasă.\n\nDuminicîă: 31 Mai 2026 \n\n10:00 – 12:00\nFolosirea corectă a ustensilelor cu Attila Kovacs\nAlegerea și întreținerea corectă a uneltelor pentru muncă precisă\, sigură și eficientă.\n\n14:00 – 16:00\nCreativitatea stilului Asian cu Costin Stoica\nTehnici moderne care adaugă valoare portofoliului tău și te diferențiază în piață\n\n🎓 Diplome recunoscute internațional\nAșa cum v-am obișnuit la edițiile trecute\, toți participanții vor primi diplome Artero Academy\, recunoscute la nivel mondial și apreciate în industria groomingului profesional. \n💶 Taxă de participare:\n• 200 € pentru 2 zile \n• 150 € pentru 1 zi  \nDe ce să participi?\nPentru că este un pachet complet de know-how practic\, care îți aduce mai multă viteză\, mai multă încredere și clienți mai mulțumiți. \nVino să înveți de la cei mai buni și să transformi rutina în artă! \n📍 Locație: CRAFT\, Timișoara\n📩 Înscrieri & informații: contact@master-groom.ro\n📞 WhatsApp: +40 746 400 300\n🌐 Website: www.master-groom.ro \n 
URL:https://dogpro.ro/eveniment/grooming-in-real-life/
LOCATION:Centrul Regional de Afaceri Timisoara\, Bulevardul Eroilor de la Tisa nr.22\, Timisoara\, Timis\, 300575\, Romania
ATTACH;FMTTYPE=image/jpeg:https://dogpro.ro/wp-content/uploads/2026/01/Event-Cover-of-SEMINAR-MASTERS-2.jpg
ORGANIZER;CN="DogPro.ro":MAILTO:info@dogpro.ro
END:VEVENT
END:VCALENDAR